BEGIN:VCALENDAR
METHOD:PUBLISH
PRODID:Data::ICal 0.13
VERSION:2.0
BEGIN:VEVENT
DESCRIPTION:Join us for the 11th Annual Radio One Golf Classic returning Friday, September 29th at the historic Cedar Crest Golf Course. Spend a day at the golf course and play a great game for an even better cause. \nRELATED:10th Annual Radio One Celebrity Golf Classic[PHOTOS] \nLocated in Oak Cliff, Texas, enjoy a relaxing day with your team for a chance to win awesome door prizes and GRAND Prizes! \n RSVP today at the link below to reserve your spot! \nGOLF SIGN UP \nFor more information, please call 972-331-5400.
DTSTAMP:20260424T094422Z
DTSTART;TZID=America/Chicago:20230929T070000
DTEND;TZID=America/Chicago:20230929T130000
LOCATION:
SUMMARY:11th Annual Radio One Golf Classic
UID:524436-1695970800-1695992400
END:VEVENT
END:VCALENDAR
