BEGIN:VCALENDAR
METHOD:PUBLISH
PRODID:Data::ICal 0.13
VERSION:2.0
BEGIN:VEVENT
DESCRIPTION:[gallery columns=&quot;2&quot; size=&quot;large&quot; ids=&quot;878817,878818&quot;]\n\nGet ready to feel like a star because the man himself, 50 Cent, is rolling through multiple Spec&#039;s stores across Dallas to sign his iconic Branson Cognac bottles!\nVIP Tickets Available \nElevate your experience with VIP tickets, snagging you the prime real estate in line and giving you that front-row action with 50 Cent! Don&#039;t miss this exclusive chance to vibe with a hip-hop legend and sip on that smooth Branson Cognac – it&#039;s an event for the grown and sexy crowd who know how to party in style!  Secure your VIP access now and check out where he&#039;ll stop next.\nSeptember 26: Allen, TX -- 1839 N Central Expressway, Allen, TX 75013 \nSeptember 27: Dallas, TX -- 9500 N Central Expressway, Dallas, TX 75231 \n&nbsp;\n\n&nbsp;
DTSTAMP:20260422T033734Z
DTSTART;TZID=America/Chicago:20240926T000000
DTEND;TZID=America/Chicago:20240927T000000
LOCATION:
SUMMARY:50 Cent&#8217;s Branson Cognac Signing Tour Hits Dallas Sept 26-27!
UID:878819-1727308800-1727395200
END:VEVENT
END:VCALENDAR
